BEGIN:VCALENDAR
PRODID:childsupport.georgia.gov
VERSION:2.0
CALSCALE:GREGORIAN
BEGIN:VEVENT
UID:024caba0f72b4df98c5887fc261b0d0e
DTSTAMP:20260422T145555Z
SUMMARY:Fatherhood Conversation - Athens\, GA
DESCRIPTION: \n\nJoin on Zoom\n\nJoin on YouTube Live\n\nFor more details\
 , please contact:\n\nMarvin Broadwater\, Sr.mbroadwatersr@yahoo.com | 706-
 315-6465\n\nBarrette Walkerwalkerbarrette@yahoo.com | 917-977-1641\n\nThis
  website is supported by Grant Number 2502GASCSS from the Office of Child 
 Support Services within the Administration for Children and Families\, a d
 ivision of the U.S. Department of Health and Human Services. Neither the A
 dministration for Children and Families nor any of its components operate\
 , control\, are responsible for\, or necessarily endorse this website (inc
 luding\, without limitation\, its content\, technical infrastructure\, and
  policies\, and any services or tools provided). The opinions\, findings\,
  conclusions\, and recommendations expressed are those of the author(s) an
 d do not necessarily reflect the views of the Administration for Children 
 and Families and the Office of Child Support Services.
URL:https://childsupport.georgia.gov/events/2026-04-14/fatherhood-conversat
 ion-athens-ga
DTSTART;VALUE=DATE:20260414
DTEND;VALUE=DATE:20260415
X-LIC-LOCATION:America/New_York
X-WR-TIMEZONE:America/New_York
END:VEVENT
BEGIN:VTIMEZONE
TZID:America/New_York
END:VTIMEZONE
END:VCALENDAR
